BEGIN:VCALENDAR
VERSION:2.0
PRODID:-//Plone.org//NONSGML plone.app.event//EN
X-WR-TIMEZONE:Europe/Madrid
BEGIN:VEVENT
SUMMARY:Actuación de alumnos de la Escuela Municipal de Música y Danza
DTSTART;TZID=Europe/Madrid;VALUE=DATE-TIME:20240425T180000
DTEND;TZID=Europe/Madrid;VALUE=DATE-TIME:20240425T190000
DTSTAMP;VALUE=DATE-TIME:20260419T223041Z
UID:8ab662c9460540b4b5ed42bb16830444@www.molletvalles.cat
CATEGORIES:Artes escénicas
CREATED;VALUE=DATE-TIME:20240423T113837Z
DESCRIPTION:DÍA INTERNACIONAL DE LA DANZA
LAST-MODIFIED;VALUE=DATE-TIME:20240423T113915Z
LOCATION:Parc de les Pruneres
URL:https://www.molletvalles.cat/es/actualidad/agenda/actuacion-de-alumnos
 -de-la-escuela-municipal-de-musica-y-danza
END:VEVENT
BEGIN:VTIMEZONE
TZID:Europe/Madrid
X-LIC-LOCATION:Europe/Madrid
BEGIN:DAYLIGHT
DTSTART;VALUE=DATE-TIME:20240331T030000
TZNAME:CEST
TZOFFSETFROM:+0100
TZOFFSETTO:+0200
END:DAYLIGHT
END:VTIMEZONE
END:VCALENDAR
