BEGIN:VCALENDAR
VERSION:2.0
PRODID:-//Plone.org//NONSGML plone.app.event//EN
X-WR-TIMEZONE:Europe/Madrid
BEGIN:VEVENT
SUMMARY:Actuación del Centro Cultural Andaluz y el Centro Cultural Aragon
 és
DTSTART;TZID=Europe/Madrid;VALUE=DATE-TIME:20250920T180000
DTEND;TZID=Europe/Madrid;VALUE=DATE-TIME:20250920T190000
DTSTAMP;VALUE=DATE-TIME:20260423T121335Z
UID:3c889355176a48f98152e3663ca2f8ce@www.molletvalles.cat
CATEGORIES:Ferias y mercados
CREATED;VALUE=DATE-TIME:20250915T082543Z
DESCRIPTION:FERIA DE ARTESANOS 2025
LAST-MODIFIED;VALUE=DATE-TIME:20250915T095526Z
LOCATION:Plaza de la Artesanía
URL:https://www.molletvalles.cat/es/actualidad/agenda/actuacion-del-centro
 -cultural-andaluz-y-el-centro-cultural-aragones
END:VEVENT
BEGIN:VTIMEZONE
TZID:Europe/Madrid
X-LIC-LOCATION:Europe/Madrid
BEGIN:DAYLIGHT
DTSTART;VALUE=DATE-TIME:20250330T030000
TZNAME:CEST
TZOFFSETFROM:+0100
TZOFFSETTO:+0200
END:DAYLIGHT
END:VTIMEZONE
END:VCALENDAR
