BEGIN:VCALENDAR
VERSION:2.0
PRODID:-//Plone.org//NONSGML plone.app.event//EN
X-WR-TIMEZONE:Europe/Madrid
BEGIN:VEVENT
SUMMARY:Actuación del grupo de playback de Amigos del Arte: "Amigos del A
 rte siempre activos"
DTSTART;TZID=Europe/Madrid;VALUE=DATE-TIME:20241112T170000
DTEND;TZID=Europe/Madrid;VALUE=DATE-TIME:20241112T180000
DTSTAMP;VALUE=DATE-TIME:20260425T121841Z
UID:0e3e20b914d248348fd5c54a72751396@www.molletvalles.cat
CATEGORIES:Espectáculo
CREATED;VALUE=DATE-TIME:20240924T075426Z
LAST-MODIFIED;VALUE=DATE-TIME:20241009T081620Z
URL:https://www.molletvalles.cat/es/actualidad/agenda/actuacion-del-grupo-
 de-playback-amigos-del-arte
END:VEVENT
BEGIN:VTIMEZONE
TZID:Europe/Madrid
X-LIC-LOCATION:Europe/Madrid
BEGIN:STANDARD
DTSTART;VALUE=DATE-TIME:20241027T020000
TZNAME:CET
TZOFFSETFROM:+0200
TZOFFSETTO:+0100
END:STANDARD
END:VTIMEZONE
END:VCALENDAR
