BEGIN:VCALENDAR
VERSION:2.0
PRODID:-//Plone.org//NONSGML plone.app.event//EN
X-WR-TIMEZONE:Europe/Madrid
BEGIN:VEVENT
SUMMARY:APLEC DE MALABARES DE FUEGO
DTSTART;VALUE=DATE:20260509
DTEND;VALUE=DATE:20260510
DTSTAMP;VALUE=DATE-TIME:20260423T155656Z
UID:730dfc2176cd48a28f8d97300b709401@www.molletvalles.cat
CATEGORIES:Fiestas populares
CREATED;VALUE=DATE-TIME:20260423T100408Z
LAST-MODIFIED;VALUE=DATE-TIME:20260423T100442Z
LOCATION:Parque de Les Pruneres
URL:https://www.molletvalles.cat/es/actualidad/agenda/aplec-de-malabares-d
 e-fuego
END:VEVENT
END:VCALENDAR
