BEGIN:VCALENDAR
VERSION:2.0
PRODID:-//Plone.org//NONSGML plone.app.event//EN
X-WR-TIMEZONE:Europe/Madrid
BEGIN:VEVENT
SUMMARY:Asociación del concurso internacional de música Maria Canals. Re
 cital de clausura a cuatro manos: Irene Tineo y Roger Vilarnau
DTSTART;VALUE=DATE:20241002
DTEND;VALUE=DATE:20241003
DTSTAMP;VALUE=DATE-TIME:20260421T162154Z
UID:9602199bfc5a47e3a612849dd8874efa@www.molletvalles.cat
CATEGORIES:Música
CREATED;VALUE=DATE-TIME:20240919T122820Z
DESCRIPTION:SONA MOLLET 2024 -MEMORIAL ANNA VILLAESCUSA REBULL-
LAST-MODIFIED;VALUE=DATE-TIME:20240920T071044Z
LOCATION:Plaza Cataluña
URL:https://www.molletvalles.cat/es/actualidad/agenda/asociacion-del-concu
 rso-internacional-de-musica-maria-canals-recital-de-clausura-a-cuatro-mano
 s-irene-tineo-y-roger-vilarnau
END:VEVENT
END:VCALENDAR
