BEGIN:VCALENDAR
VERSION:2.0
PRODID:-//Plone.org//NONSGML plone.app.event//EN
X-WR-TIMEZONE:Europe/Madrid
BEGIN:VEVENT
SUMMARY:¡Bailamos?!
DTSTART;VALUE=DATE:20240515
DTEND;VALUE=DATE:20240516
DTSTAMP;VALUE=DATE-TIME:20260423T133959Z
UID:14bd914a682347ca9a75b3cc0e550c4d@www.molletvalles.cat
CATEGORIES:Baile
CREATED;VALUE=DATE-TIME:20240326T103400Z
DESCRIPTION:POR MUCHOS AÑOS 2024
LAST-MODIFIED;VALUE=DATE-TIME:20240326T120957Z
URL:https://www.molletvalles.cat/es/actualidad/agenda/bailamos
END:VEVENT
END:VCALENDAR
