BEGIN:VCALENDAR
VERSION:2.0
PRODID:-//Plone.org//NONSGML plone.app.event//EN
X-WR-TIMEZONE:Europe/Madrid
BEGIN:VEVENT
SUMMARY:Baile de inicio de Fiesta Mayor con Jarabe de Noche
DTSTART;TZID=Europe/Madrid;VALUE=DATE-TIME:20240817T230000
DTEND;TZID=Europe/Madrid;VALUE=DATE-TIME:20240817T235500
DTSTAMP;VALUE=DATE-TIME:20260421T140229Z
UID:720883d4c5c84215b9cd80a0f39a0809@www.molletvalles.cat
CATEGORIES:Baile
CREATED;VALUE=DATE-TIME:20240725T105051Z
DESCRIPTION:FIESTA MAYOR 2024
LAST-MODIFIED;VALUE=DATE-TIME:20240726T071555Z
LOCATION:Carpa
URL:https://www.molletvalles.cat/es/actualidad/agenda/baile-de-inicio-de-f
 iesta-mayor-con-jarabe-de-noche
END:VEVENT
BEGIN:VTIMEZONE
TZID:Europe/Madrid
X-LIC-LOCATION:Europe/Madrid
BEGIN:DAYLIGHT
DTSTART;VALUE=DATE-TIME:20240331T030000
TZNAME:CEST
TZOFFSETFROM:+0100
TZOFFSETTO:+0200
END:DAYLIGHT
END:VTIMEZONE
END:VCALENDAR
