BEGIN:VCALENDAR
VERSION:2.0
PRODID:-//Plone.org//NONSGML plone.app.event//EN
X-WR-TIMEZONE:Europe/Madrid
BEGIN:VEVENT
SUMMARY:Baile de la gente mayor
DTSTART;TZID=Europe/Madrid;VALUE=DATE-TIME:20260118T173000
DTEND;TZID=Europe/Madrid;VALUE=DATE-TIME:20260118T183000
DTSTAMP;VALUE=DATE-TIME:20260421T135832Z
UID:3d3d4f6f13ad4376bcf399000ce55eb3@www.molletvalles.cat
CATEGORIES: Baile
CREATED;VALUE=DATE-TIME:20251119T121848Z
LAST-MODIFIED;VALUE=DATE-TIME:20251124T123622Z
URL:https://www.molletvalles.cat/es/actualidad/agenda/baile-de-la-gente-ma
 yor-1763554728.4765615
END:VEVENT
BEGIN:VTIMEZONE
TZID:Europe/Madrid
X-LIC-LOCATION:Europe/Madrid
BEGIN:STANDARD
DTSTART;VALUE=DATE-TIME:20251026T020000
TZNAME:CET
TZOFFSETFROM:+0200
TZOFFSETTO:+0100
END:STANDARD
END:VTIMEZONE
END:VCALENDAR
