BEGIN:VCALENDAR
VERSION:2.0
PRODID:-//Plone.org//NONSGML plone.app.event//EN
X-WR-TIMEZONE:Europe/Madrid
BEGIN:VEVENT
SUMMARY:Baile de las Personas Mayores\, con el baile de ramos\, amenizado 
 por el Duet Cristian y Sonia
DTSTART;TZID=Europe/Madrid;VALUE=DATE-TIME:20240819T173000
DTEND;TZID=Europe/Madrid;VALUE=DATE-TIME:20240819T183000
DTSTAMP;VALUE=DATE-TIME:20260419T162221Z
UID:73c54921fc62428cad17206252ffe13c@www.molletvalles.cat
CATEGORIES:Baile
CREATED;VALUE=DATE-TIME:20240730T064335Z
DESCRIPTION:FIESTA MAYOR 2024
LAST-MODIFIED;VALUE=DATE-TIME:20240730T091530Z
URL:https://www.molletvalles.cat/es/actualidad/agenda/baile-de-las-persona
 s-mayores-con-el-baile-de-ramos-amenizado-por-el-duet-cristian-y-sonia
END:VEVENT
BEGIN:VTIMEZONE
TZID:Europe/Madrid
X-LIC-LOCATION:Europe/Madrid
BEGIN:DAYLIGHT
DTSTART;VALUE=DATE-TIME:20240331T030000
TZNAME:CEST
TZOFFSETFROM:+0100
TZOFFSETTO:+0200
END:DAYLIGHT
END:VTIMEZONE
END:VCALENDAR
