BEGIN:VCALENDAR
VERSION:2.0
PRODID:-//Plone.org//NONSGML plone.app.event//EN
X-WR-TIMEZONE:Europe/Madrid
BEGIN:VEVENT
SUMMARY:Baile de Salón
DTSTART;TZID=Europe/Madrid;VALUE=DATE-TIME:20260307T220000
DTEND;TZID=Europe/Madrid;VALUE=DATE-TIME:20260307T230000
DTSTAMP;VALUE=DATE-TIME:20260421T083755Z
UID:6e606015f3c94470ba8abffe00505328@www.molletvalles.cat
CATEGORIES: Baile
CREATED;VALUE=DATE-TIME:20260306T092721Z
LAST-MODIFIED;VALUE=DATE-TIME:20260306T092730Z
URL:https://www.molletvalles.cat/es/actualidad/agenda/baile-de-salon-13
END:VEVENT
BEGIN:VTIMEZONE
TZID:Europe/Madrid
X-LIC-LOCATION:Europe/Madrid
BEGIN:STANDARD
DTSTART;VALUE=DATE-TIME:20251026T020000
TZNAME:CET
TZOFFSETFROM:+0200
TZOFFSETTO:+0100
END:STANDARD
END:VTIMEZONE
END:VCALENDAR
