BEGIN:VCALENDAR
VERSION:2.0
PRODID:-//Plone.org//NONSGML plone.app.event//EN
X-WR-TIMEZONE:Europe/Madrid
BEGIN:VEVENT
SUMMARY:Baile de sardanas de Fiesta Mayor de invierno con la copla Ciutat 
 de Cornellà
DTSTART;TZID=Europe/Madrid;VALUE=DATE-TIME:20240121T113000
DTEND;TZID=Europe/Madrid;VALUE=DATE-TIME:20240121T123000
DTSTAMP;VALUE=DATE-TIME:20260421T140348Z
UID:7aa349499c2f4d5d9b3dd71760484ff4@www.molletvalles.cat
CATEGORIES:Baile
CREATED;VALUE=DATE-TIME:20240115T123057Z
DESCRIPTION:FIESTA MAYOR DE INVIERNO
LAST-MODIFIED;VALUE=DATE-TIME:20240115T123114Z
LOCATION:Parque de Les Pruneres
URL:https://www.molletvalles.cat/es/actualidad/agenda/baile-de-sardanas-de
 -fiesta-mayor-de-invierno-con-la-copla-ciutat-de-cornella
END:VEVENT
BEGIN:VTIMEZONE
TZID:Europe/Madrid
X-LIC-LOCATION:Europe/Madrid
BEGIN:STANDARD
DTSTART;VALUE=DATE-TIME:20231029T020000
TZNAME:CET
TZOFFSETFROM:+0200
TZOFFSETTO:+0100
END:STANDARD
END:VTIMEZONE
END:VCALENDAR
