BEGIN:VCALENDAR
VERSION:2.0
PRODID:-//Plone.org//NONSGML plone.app.event//EN
X-WR-TIMEZONE:Europe/Madrid
BEGIN:VEVENT
SUMMARY:Baile Solidario - La Marató de TV3-
DTSTART;VALUE=DATE:20241201
DTEND;VALUE=DATE:20241202
DTSTAMP;VALUE=DATE-TIME:20260423T122935Z
UID:57d66fbcf6f84bd190fee69f24fc0a34@www.molletvalles.cat
CATEGORIES:Baile
CREATED;VALUE=DATE-TIME:20241107T095917Z
LAST-MODIFIED;VALUE=DATE-TIME:20241108T091238Z
URL:https://www.molletvalles.cat/es/actualidad/agenda/baile-solidario-la-m
 arato-de-tv3
END:VEVENT
END:VCALENDAR
