BEGIN:VCALENDAR
VERSION:2.0
PRODID:-//Plone.org//NONSGML plone.app.event//EN
X-WR-TIMEZONE:Europe/Madrid
BEGIN:VEVENT
SUMMARY:Barbacoa Solidaria Pulseras Candela
DTSTART;VALUE=DATE:20240526
DTEND;VALUE=DATE:20240527
DTSTAMP;VALUE=DATE-TIME:20260421T135819Z
UID:58af59a23faf43cb976fc875a4a6dac0@www.molletvalles.cat
CATEGORIES:Fiestas populares
CREATED;VALUE=DATE-TIME:20240508T112903Z
LAST-MODIFIED;VALUE=DATE-TIME:20240520T111935Z
LOCATION:Parque de Can Mulà
URL:https://www.molletvalles.cat/es/actualidad/agenda/barbacoa-solidaria-p
 ulseras-candela
END:VEVENT
END:VCALENDAR
