BEGIN:VCALENDAR
VERSION:2.0
PRODID:-//Plone.org//NONSGML plone.app.event//EN
X-WR-TIMEZONE:Europe/Madrid
BEGIN:VEVENT
SUMMARY:Caminata Día Mundial de la fibromialgia y a continuación Lectura
  del Manifiesto
DTSTART;VALUE=DATE:20260512
DTEND;VALUE=DATE:20260513
DTSTAMP;VALUE=DATE-TIME:20260423T192217Z
UID:16188871c5ea4000a9337edda35b7ab2@www.molletvalles.cat
CATEGORIES:Actos diversos
CREATED;VALUE=DATE-TIME:20260423T120527Z
LAST-MODIFIED;VALUE=DATE-TIME:20260423T120743Z
LOCATION:Salida: Desde el Hospital de Mollet\, Ronda de Pinetons Parc dels
  Colors\, Rambla Nova\, Av. Burgos y Plaza Mayor
URL:https://www.molletvalles.cat/es/actualidad/agenda/caminata-dia-mundial
 -de-la-fibromialgia-y-a-continuacion-lectura-del-manifiesto
END:VEVENT
END:VCALENDAR
