BEGIN:VCALENDAR
VERSION:2.0
PRODID:-//Plone.org//NONSGML plone.app.event//EN
X-WR-TIMEZONE:Europe/Madrid
BEGIN:VEVENT
SUMMARY:Campeonato de Cataluña FCK Karate Infantil Kyoku
DTSTART;VALUE=DATE:20260411
DTEND;VALUE=DATE:20260412
DTSTAMP;VALUE=DATE-TIME:20260425T121718Z
UID:ca3d3c196acf4073a4397741d7971b15@www.molletvalles.cat
CATEGORIES:Deportes
CREATED;VALUE=DATE-TIME:20260226T130852Z
LAST-MODIFIED;VALUE=DATE-TIME:20260226T132011Z
LOCATION:Pabellón Municipal de Deportes Riera Seca
URL:https://www.molletvalles.cat/es/actualidad/agenda/campeonato-de-catalu
 na-fck-karate-infantil-kyoku
END:VEVENT
END:VCALENDAR
