BEGIN:VCALENDAR
VERSION:2.0
PRODID:-//Plone.org//NONSGML plone.app.event//EN
X-WR-TIMEZONE:Europe/Madrid
BEGIN:VEVENT
SUMMARY:Can Pantiquet es música y mucho más\, ¡vive el cívico!
DTSTART;TZID=Europe/Madrid;VALUE=DATE-TIME:20230602T180000
DTEND;TZID=Europe/Madrid;VALUE=DATE-TIME:20230602T190000
DTSTAMP;VALUE=DATE-TIME:20260421T160416Z
UID:0f9f047e9be943f387eea4d43f754ad7@www.molletvalles.cat
CATEGORIES:Artes escénicas
CREATED;VALUE=DATE-TIME:20230518T070301Z
LAST-MODIFIED;VALUE=DATE-TIME:20230518T072928Z
URL:https://www.molletvalles.cat/es/actualidad/agenda/can-pantiquet-es-mus
 ica-y-mucho-mas-vive-el-civico
END:VEVENT
BEGIN:VTIMEZONE
TZID:Europe/Madrid
X-LIC-LOCATION:Europe/Madrid
BEGIN:DAYLIGHT
DTSTART;VALUE=DATE-TIME:20230326T030000
TZNAME:CEST
TZOFFSETFROM:+0100
TZOFFSETTO:+0200
END:DAYLIGHT
END:VTIMEZONE
END:VCALENDAR
