BEGIN:VCALENDAR
VERSION:2.0
PRODID:-//Plone.org//NONSGML plone.app.event//EN
X-WR-TIMEZONE:Europe/Madrid
BEGIN:VEVENT
SUMMARY:Carnaballa Torrats Kids - Minidisco familiar con DJ Sandruski
DTSTART;TZID=Europe/Madrid;VALUE=DATE-TIME:20260213T173000
DTEND;TZID=Europe/Madrid;VALUE=DATE-TIME:20260213T183000
DTSTAMP;VALUE=DATE-TIME:20260421T160545Z
UID:eba163c099224e8bae283edeea23e277@www.molletvalles.cat
CATEGORIES:Fiestas populares
CREATED;VALUE=DATE-TIME:20260130T082741Z
DESCRIPTION:CARNAVAL 2026
LAST-MODIFIED;VALUE=DATE-TIME:20260202T072526Z
URL:https://www.molletvalles.cat/es/actualidad/agenda/carnaballa-tostados-
 kids-minidisco-familiar-con-dj-sandruski
END:VEVENT
BEGIN:VTIMEZONE
TZID:Europe/Madrid
X-LIC-LOCATION:Europe/Madrid
BEGIN:STANDARD
DTSTART;VALUE=DATE-TIME:20251026T020000
TZNAME:CET
TZOFFSETFROM:+0200
TZOFFSETTO:+0100
END:STANDARD
END:VTIMEZONE
END:VCALENDAR
