BEGIN:VCALENDAR
VERSION:2.0
PRODID:-//Plone.org//NONSGML plone.app.event//EN
X-WR-TIMEZONE:Europe/Madrid
BEGIN:VEVENT
SUMMARY:Celebración del Once de Septiembre\, Día Nacional de Cataluña
DTSTART;TZID=Europe/Madrid;VALUE=DATE-TIME:20240911T120000
DTEND;TZID=Europe/Madrid;VALUE=DATE-TIME:20240911T130000
DTSTAMP;VALUE=DATE-TIME:20260421T160544Z
UID:2216523203f24ebe806497b9525ed1b7@www.molletvalles.cat
CATEGORIES:Actos de ciudad,Actos institucionales
CREATED;VALUE=DATE-TIME:20240704T104556Z
LAST-MODIFIED;VALUE=DATE-TIME:20240704T104612Z
LOCATION:Monumento de Rafael Casanova
URL:https://www.molletvalles.cat/es/actualidad/agenda/celebracion-del-once
 -de-septiembre-dia-nacional-de-cataluna
END:VEVENT
BEGIN:VTIMEZONE
TZID:Europe/Madrid
X-LIC-LOCATION:Europe/Madrid
BEGIN:DAYLIGHT
DTSTART;VALUE=DATE-TIME:20240331T030000
TZNAME:CEST
TZOFFSETFROM:+0100
TZOFFSETTO:+0200
END:DAYLIGHT
END:VTIMEZONE
END:VCALENDAR
