BEGIN:VCALENDAR
VERSION:2.0
PRODID:-//Plone.org//NONSGML plone.app.event//EN
X-WR-TIMEZONE:Europe/Madrid
BEGIN:VEVENT
SUMMARY:Charla: "Arte africano"\, a cargo de la especialista en arte afric
 ano Elena Martínez Jacquet
DTSTART;TZID=Europe/Madrid;VALUE=DATE-TIME:20231110T190000
DTEND;TZID=Europe/Madrid;VALUE=DATE-TIME:20231110T200000
DTSTAMP;VALUE=DATE-TIME:20260419T162622Z
UID:86c4922f752f4391b9392624ab4377c9@www.molletvalles.cat
CATEGORIES:Charlas
CREATED;VALUE=DATE-TIME:20231018T101032Z
LAST-MODIFIED;VALUE=DATE-TIME:20231106T113142Z
URL:https://www.molletvalles.cat/es/actualidad/agenda/charla-arte-africano
 -a-cargo-del-especialista-en-arte-africano-elena-martinez-jacquet
END:VEVENT
BEGIN:VTIMEZONE
TZID:Europe/Madrid
X-LIC-LOCATION:Europe/Madrid
BEGIN:STANDARD
DTSTART;VALUE=DATE-TIME:20231029T020000
TZNAME:CET
TZOFFSETFROM:+0200
TZOFFSETTO:+0100
END:STANDARD
END:VTIMEZONE
END:VCALENDAR
