BEGIN:VCALENDAR
VERSION:2.0
PRODID:-//Plone.org//NONSGML plone.app.event//EN
X-WR-TIMEZONE:Europe/Madrid
BEGIN:VEVENT
SUMMARY:Charla: Clausura de la exposición "La colección crece. Depósito
 s y donaciones en el Museu Abelló"
DTSTART;TZID=Europe/Madrid;VALUE=DATE-TIME:20250219T190000
DTEND;TZID=Europe/Madrid;VALUE=DATE-TIME:20250219T200000
DTSTAMP;VALUE=DATE-TIME:20260419T170312Z
UID:7523e8b3d2fd420ba90bb4f983454ceb@www.molletvalles.cat
CATEGORIES:C harlas
CREATED;VALUE=DATE-TIME:20250207T102505Z
LAST-MODIFIED;VALUE=DATE-TIME:20250213T092427Z
URL:https://www.molletvalles.cat/es/actualidad/agenda/charla-clausura-de-l
 a-exposicion-la-coleccion-crece-depositos-y-donaciones-en-el-museu-abello
END:VEVENT
BEGIN:VTIMEZONE
TZID:Europe/Madrid
X-LIC-LOCATION:Europe/Madrid
BEGIN:STANDARD
DTSTART;VALUE=DATE-TIME:20241027T020000
TZNAME:CET
TZOFFSETFROM:+0200
TZOFFSETTO:+0100
END:STANDARD
END:VTIMEZONE
END:VCALENDAR
