BEGIN:VCALENDAR
VERSION:2.0
PRODID:-//Plone.org//NONSGML plone.app.event//EN
X-WR-TIMEZONE:Europe/Madrid
BEGIN:VEVENT
SUMMARY:Charla: "Cómo leer las etiquetas de los alimentos"
DTSTART;TZID=Europe/Madrid;VALUE=DATE-TIME:20241202T180000
DTEND;TZID=Europe/Madrid;VALUE=DATE-TIME:20241202T190000
DTSTAMP;VALUE=DATE-TIME:20260421T140215Z
UID:832f2f7790d4497c9c078eec53ab23a3@www.molletvalles.cat
CATEGORIES:Charlas
CREATED;VALUE=DATE-TIME:20241007T101954Z
LAST-MODIFIED;VALUE=DATE-TIME:20241008T072113Z
URL:https://www.molletvalles.cat/es/actualidad/agenda/charla-como-leer-las
 -etiquetas-de-los-alimentos
END:VEVENT
BEGIN:VTIMEZONE
TZID:Europe/Madrid
X-LIC-LOCATION:Europe/Madrid
BEGIN:STANDARD
DTSTART;VALUE=DATE-TIME:20241027T020000
TZNAME:CET
TZOFFSETFROM:+0200
TZOFFSETTO:+0100
END:STANDARD
END:VTIMEZONE
END:VCALENDAR
