BEGIN:VCALENDAR
VERSION:2.0
PRODID:-//Plone.org//NONSGML plone.app.event//EN
X-WR-TIMEZONE:Europe/Madrid
BEGIN:VEVENT
SUMMARY:Charla dentro del ciclo "Hablemos de Salud": La sexualidad y el or
 gasmo femenino
DTSTART;TZID=Europe/Madrid;VALUE=DATE-TIME:20230329T180000
DTEND;TZID=Europe/Madrid;VALUE=DATE-TIME:20230329T190000
DTSTAMP;VALUE=DATE-TIME:20260425T122529Z
UID:ab40fd3ba74a492dbaf7ca7f95288510@www.molletvalles.cat
CATEGORIES:Conferencias
CREATED;VALUE=DATE-TIME:20230227T135514Z
DESCRIPTION:8 DE MARZO
LAST-MODIFIED;VALUE=DATE-TIME:20230310T121622Z
URL:https://www.molletvalles.cat/es/actualidad/agenda/charla-dentro-del-ci
 clo-hablemos-de-salud-la-sexualidad-y-el-orgasmo-femenino
END:VEVENT
BEGIN:VTIMEZONE
TZID:Europe/Madrid
X-LIC-LOCATION:Europe/Madrid
BEGIN:DAYLIGHT
DTSTART;VALUE=DATE-TIME:20230326T030000
TZNAME:CEST
TZOFFSETFROM:+0100
TZOFFSETTO:+0200
END:DAYLIGHT
END:VTIMEZONE
END:VCALENDAR
