BEGIN:VCALENDAR
VERSION:2.0
PRODID:-//Plone.org//NONSGML plone.app.event//EN
X-WR-TIMEZONE:Europe/Madrid
BEGIN:VEVENT
SUMMARY:Charla: Encuentro en pequeño formato para escuchar las voces más
  cercanas a Cesc Bas
DTSTART;TZID=Europe/Madrid;VALUE=DATE-TIME:20260429T190000
DTEND;TZID=Europe/Madrid;VALUE=DATE-TIME:20260429T200000
DTSTAMP;VALUE=DATE-TIME:20260425T155150Z
UID:a6116eeec1ec41658745a1b2adc43d47@www.molletvalles.cat
CATEGORIES:Charlas
CREATED;VALUE=DATE-TIME:20260421T080303Z
LAST-MODIFIED;VALUE=DATE-TIME:20260422T091839Z
URL:https://www.molletvalles.cat/es/actualidad/agenda/charla-encuentro-en-
 pequeno-formato-para-escuchar-las-voces-mas-cercanas-a-cesc-bas
END:VEVENT
BEGIN:VTIMEZONE
TZID:Europe/Madrid
X-LIC-LOCATION:Europe/Madrid
BEGIN:DAYLIGHT
DTSTART;VALUE=DATE-TIME:20260329T030000
TZNAME:CEST
TZOFFSETFROM:+0100
TZOFFSETTO:+0200
END:DAYLIGHT
END:VTIMEZONE
END:VCALENDAR
