BEGIN:VCALENDAR
VERSION:2.0
PRODID:-//Plone.org//NONSGML plone.app.event//EN
X-WR-TIMEZONE:Europe/Madrid
BEGIN:VEVENT
SUMMARY:Charla: Federalismo\, feminismo y fábricas\, los sueños que naci
 eron con la I República (1873/1874)
DTSTART;TZID=Europe/Madrid;VALUE=DATE-TIME:20251117T193000
DTEND;TZID=Europe/Madrid;VALUE=DATE-TIME:20251117T203000
DTSTAMP;VALUE=DATE-TIME:20260425T122513Z
UID:800b0edb3a6f4fed8b6244651ca41611@www.molletvalles.cat
CATEGORIES:Charlas
CREATED;VALUE=DATE-TIME:20251107T071644Z
LAST-MODIFIED;VALUE=DATE-TIME:20251107T071701Z
URL:https://www.molletvalles.cat/es/actualidad/agenda/charla-federalismo-f
 eminismo-y-fabricas-los-suenos-que-nacieron-con-la-i-republica-1873-1874
END:VEVENT
BEGIN:VTIMEZONE
TZID:Europe/Madrid
X-LIC-LOCATION:Europe/Madrid
BEGIN:STANDARD
DTSTART;VALUE=DATE-TIME:20251026T020000
TZNAME:CET
TZOFFSETFROM:+0200
TZOFFSETTO:+0100
END:STANDARD
END:VTIMEZONE
END:VCALENDAR
