BEGIN:VCALENDAR
VERSION:2.0
PRODID:-//Plone.org//NONSGML plone.app.event//EN
X-WR-TIMEZONE:Europe/Madrid
BEGIN:VEVENT
SUMMARY:Charla: "Los primeros represaliados de Mollet. Los dos Antonios"
DTSTART;TZID=Europe/Madrid;VALUE=DATE-TIME:20251024T180000
DTEND;TZID=Europe/Madrid;VALUE=DATE-TIME:20251024T190000
DTSTAMP;VALUE=DATE-TIME:20260421T140449Z
UID:f544287ae94b4fdda94b81a920bca5c4@www.molletvalles.cat
CREATED;VALUE=DATE-TIME:20251010T064900Z
LAST-MODIFIED;VALUE=DATE-TIME:20251022T085057Z
URL:https://www.molletvalles.cat/es/actualidad/agenda/charla-los-primeros-
 represaliados-de-mollet-los-dos-antonios
END:VEVENT
BEGIN:VTIMEZONE
TZID:Europe/Madrid
X-LIC-LOCATION:Europe/Madrid
BEGIN:DAYLIGHT
DTSTART;VALUE=DATE-TIME:20250330T030000
TZNAME:CEST
TZOFFSETFROM:+0100
TZOFFSETTO:+0200
END:DAYLIGHT
END:VTIMEZONE
END:VCALENDAR
