BEGIN:VCALENDAR
VERSION:2.0
PRODID:-//Plone.org//NONSGML plone.app.event//EN
X-WR-TIMEZONE:Europe/Madrid
BEGIN:VEVENT
SUMMARY:Charla: "Menopausia: claves para una salud plena"
DTSTART;TZID=Europe/Madrid;VALUE=DATE-TIME:20250327T180000
DTEND;TZID=Europe/Madrid;VALUE=DATE-TIME:20250327T190000
DTSTAMP;VALUE=DATE-TIME:20260423T121337Z
UID:78a74d7e74934df7b07399f7c4ac24e1@www.molletvalles.cat
CREATED;VALUE=DATE-TIME:20241021T093937Z
LAST-MODIFIED;VALUE=DATE-TIME:20250321T075913Z
URL:https://www.molletvalles.cat/es/actualidad/agenda/charla-menopausia-cl
 aves-para-una-salud-plena-1
END:VEVENT
BEGIN:VTIMEZONE
TZID:Europe/Madrid
X-LIC-LOCATION:Europe/Madrid
BEGIN:STANDARD
DTSTART;VALUE=DATE-TIME:20241027T020000
TZNAME:CET
TZOFFSETFROM:+0200
TZOFFSETTO:+0100
END:STANDARD
END:VTIMEZONE
END:VCALENDAR
