BEGIN:VCALENDAR
VERSION:2.0
PRODID:-//Plone.org//NONSGML plone.app.event//EN
X-WR-TIMEZONE:Europe/Madrid
BEGIN:VEVENT
SUMMARY:Charla: "Pagesia de proximidad en tiempos de cambio climático"\, 
 a cargo de Ricard Alcojor\, miembro de Semillas Orientales
DTSTART;TZID=Europe/Madrid;VALUE=DATE-TIME:20241107T183000
DTEND;TZID=Europe/Madrid;VALUE=DATE-TIME:20241107T193000
DTSTAMP;VALUE=DATE-TIME:20260419T161951Z
UID:03038b45d51b494ba7de7a2ec76f7ae1@www.molletvalles.cat
CATEGORIES:Charlas
CREATED;VALUE=DATE-TIME:20241031T113953Z
LAST-MODIFIED;VALUE=DATE-TIME:20241104T083041Z
URL:https://www.molletvalles.cat/es/actualidad/agenda/charla-pagesia-de-pr
 oximidad-en-tiempos-de-cambio-climatico-a-cargo-de-ricard-alcojor-miembro-
 de-semillas-orientales
END:VEVENT
BEGIN:VTIMEZONE
TZID:Europe/Madrid
X-LIC-LOCATION:Europe/Madrid
BEGIN:STANDARD
DTSTART;VALUE=DATE-TIME:20241027T020000
TZNAME:CET
TZOFFSETFROM:+0200
TZOFFSETTO:+0100
END:STANDARD
END:VTIMEZONE
END:VCALENDAR
