BEGIN:VCALENDAR
VERSION:2.0
PRODID:-//Plone.org//NONSGML plone.app.event//EN
X-WR-TIMEZONE:Europe/Madrid
BEGIN:VEVENT
SUMMARY:Charla: ¿Qué se debe saber sobre el ICTUS?
DTSTART;TZID=Europe/Madrid;VALUE=DATE-TIME:20241128T170000
DTEND;TZID=Europe/Madrid;VALUE=DATE-TIME:20241128T180000
DTSTAMP;VALUE=DATE-TIME:20260421T135730Z
UID:d03606bb6f5d416883866e73348ff88a@www.molletvalles.cat
CATEGORIES:Charlas
CREATED;VALUE=DATE-TIME:20241122T072731Z
LAST-MODIFIED;VALUE=DATE-TIME:20241122T072758Z
URL:https://www.molletvalles.cat/es/actualidad/agenda/charla-que-se-debe-s
 aber-sobre-el-ictus
END:VEVENT
BEGIN:VTIMEZONE
TZID:Europe/Madrid
X-LIC-LOCATION:Europe/Madrid
BEGIN:STANDARD
DTSTART;VALUE=DATE-TIME:20241027T020000
TZNAME:CET
TZOFFSETFROM:+0200
TZOFFSETTO:+0100
END:STANDARD
END:VTIMEZONE
END:VCALENDAR
