BEGIN:VCALENDAR
VERSION:2.0
PRODID:-//Plone.org//NONSGML plone.app.event//EN
X-WR-TIMEZONE:Europe/Madrid
BEGIN:VEVENT
SUMMARY:Charla sobre el pueblo saharaui y presentación del libro "Verde y
  negro Sáhara\, las imágenes del silencio"
DTSTART;TZID=Europe/Madrid;VALUE=DATE-TIME:20240131T183000
DTEND;TZID=Europe/Madrid;VALUE=DATE-TIME:20240131T193000
DTSTAMP;VALUE=DATE-TIME:20260419T162520Z
UID:6ec7e3425bc0420f97e5eacce2ad83a4@www.molletvalles.cat
CATEGORIES:Charlas
CREATED;VALUE=DATE-TIME:20240119T121024Z
LAST-MODIFIED;VALUE=DATE-TIME:20240125T063815Z
URL:https://www.molletvalles.cat/es/actualidad/agenda/charla-sobre-el-pueb
 lo-saharaui-y-presentacion-del-libro-verde-y-negro-sahara-las-imagenes-del
 -silencio
END:VEVENT
BEGIN:VTIMEZONE
TZID:Europe/Madrid
X-LIC-LOCATION:Europe/Madrid
BEGIN:STANDARD
DTSTART;VALUE=DATE-TIME:20231029T020000
TZNAME:CET
TZOFFSETFROM:+0200
TZOFFSETTO:+0100
END:STANDARD
END:VTIMEZONE
END:VCALENDAR
