BEGIN:VCALENDAR
VERSION:2.0
PRODID:-//Plone.org//NONSGML plone.app.event//EN
X-WR-TIMEZONE:Europe/Madrid
BEGIN:VEVENT
SUMMARY:Charla-taller: "Saltar y luego mirar atrás: escritura y exilio"
DTSTART;TZID=Europe/Madrid;VALUE=DATE-TIME:20240314T173000
DTEND;TZID=Europe/Madrid;VALUE=DATE-TIME:20240314T183000
DTSTAMP;VALUE=DATE-TIME:20260425T140815Z
UID:8bd741ad66324ac49edf9833b7b21e2e@www.molletvalles.cat
CATEGORIES:Charlas
CREATED;VALUE=DATE-TIME:20240305T130514Z
LAST-MODIFIED;VALUE=DATE-TIME:20240306T085852Z
URL:https://www.molletvalles.cat/es/actualidad/agenda/charla-taller-saltar
 -y-luego-mirar-atras-escritura-y-exilio
END:VEVENT
BEGIN:VTIMEZONE
TZID:Europe/Madrid
X-LIC-LOCATION:Europe/Madrid
BEGIN:STANDARD
DTSTART;VALUE=DATE-TIME:20231029T020000
TZNAME:CET
TZOFFSETFROM:+0200
TZOFFSETTO:+0100
END:STANDARD
END:VTIMEZONE
END:VCALENDAR
