BEGIN:VCALENDAR
VERSION:2.0
PRODID:-//Plone.org//NONSGML plone.app.event//EN
X-WR-TIMEZONE:Europe/Madrid
BEGIN:VEVENT
SUMMARY:Charla telemática ciclo "Experiencias compartidas": "¿Quién es 
 mi hijo en el mundo digital? Acompañando la construcción de una identida
 d digital saludable"
DTSTART;TZID=Europe/Madrid;VALUE=DATE-TIME:20240306T170000
DTEND;TZID=Europe/Madrid;VALUE=DATE-TIME:20240306T180000
DTSTAMP;VALUE=DATE-TIME:20260419T170309Z
UID:e21a285358ed41bba41f22561a384838@www.molletvalles.cat
CATEGORIES:Charlas
CREATED;VALUE=DATE-TIME:20240227T121331Z
LAST-MODIFIED;VALUE=DATE-TIME:20240227T121350Z
URL:https://www.molletvalles.cat/es/actualidad/agenda/charla-telematica-ci
 clo-experiencias-compartidas-quien-es-mi-hijo-en-el-mundo-digital-acompana
 ndo-la-construccion-de-una-identidad-digital-saludable
END:VEVENT
BEGIN:VTIMEZONE
TZID:Europe/Madrid
X-LIC-LOCATION:Europe/Madrid
BEGIN:STANDARD
DTSTART;VALUE=DATE-TIME:20231029T020000
TZNAME:CET
TZOFFSETFROM:+0200
TZOFFSETTO:+0100
END:STANDARD
END:VTIMEZONE
END:VCALENDAR
