BEGIN:VCALENDAR
VERSION:2.0
PRODID:-//Plone.org//NONSGML plone.app.event//EN
X-WR-TIMEZONE:Europe/Madrid
BEGIN:VEVENT
SUMMARY:Charla: "Violencias Machistas y Cultura: retos sociales y educativ
 os"
DTSTART;TZID=Europe/Madrid;VALUE=DATE-TIME:20241114T183000
DTEND;TZID=Europe/Madrid;VALUE=DATE-TIME:20241114T193000
DTSTAMP;VALUE=DATE-TIME:20260419T162406Z
UID:aaf397c4fc3243b88a18a8ae2a232997@www.molletvalles.cat
CATEGORIES:Charlas
CREATED;VALUE=DATE-TIME:20241113T113226Z
DESCRIPTION:25N DÍA INTERNACIONAL PARA LA ERRADICACIÓN DE LA VIOLENCIA H
 ACIA LAS MUJERES
LAST-MODIFIED;VALUE=DATE-TIME:20241114T114435Z
LOCATION:Casal Cultural
URL:https://www.molletvalles.cat/es/actualidad/agenda/charla-violencias-ma
 chistas-y-cultura-retos-sociales-y-educativos
END:VEVENT
BEGIN:VTIMEZONE
TZID:Europe/Madrid
X-LIC-LOCATION:Europe/Madrid
BEGIN:STANDARD
DTSTART;VALUE=DATE-TIME:20241027T020000
TZNAME:CET
TZOFFSETFROM:+0200
TZOFFSETTO:+0100
END:STANDARD
END:VTIMEZONE
END:VCALENDAR
