BEGIN:VCALENDAR
VERSION:2.0
PRODID:-//Plone.org//NONSGML plone.app.event//EN
X-WR-TIMEZONE:Europe/Madrid
BEGIN:VEVENT
SUMMARY:Ciclo de exposiciones "Artistas Anónimos": Tomás Domingo. Pincel
 adas en blanco y negro
DTSTART;VALUE=DATE:20231106
DTEND;VALUE=DATE:20231129
DTSTAMP;VALUE=DATE-TIME:20260419T162139Z
UID:64d976cc7b704ecebb3cf5473f1d11fd@www.molletvalles.cat
CATEGORIES:Exposiciones
CREATED;VALUE=DATE-TIME:20231106T122717Z
LAST-MODIFIED;VALUE=DATE-TIME:20231106T122737Z
URL:https://www.molletvalles.cat/es/actualidad/agenda/ciclo-de-exposicione
 s-artistas-anonimos-tomas-domingo-pinceladas-en-blanco-y-negro
END:VEVENT
END:VCALENDAR
