BEGIN:VCALENDAR
VERSION:2.0
PRODID:-//Plone.org//NONSGML plone.app.event//EN
X-WR-TIMEZONE:Europe/Madrid
BEGIN:VEVENT
SUMMARY:Ciclo Técnicas Artísticas: "Capturar el momento\, el color\, el 
 encuadre y la composición. Taller práctico
DTSTART;TZID=Europe/Madrid;VALUE=DATE-TIME:20251126T190000
DTEND;TZID=Europe/Madrid;VALUE=DATE-TIME:20251126T200000
DTSTAMP;VALUE=DATE-TIME:20260421T160314Z
UID:c50045798d98441ba5bdfacf5ebd5d34@www.molletvalles.cat
CATEGORIES:Cursos y talleres
CREATED;VALUE=DATE-TIME:20251112T123120Z
LAST-MODIFIED;VALUE=DATE-TIME:20251112T124524Z
URL:https://www.molletvalles.cat/es/actualidad/agenda/ciclo-tecnicas-artis
 ticas-capturar-el-momento-el-color-el-encuadre-y-la-composicion-taller-pra
 ctico
END:VEVENT
BEGIN:VTIMEZONE
TZID:Europe/Madrid
X-LIC-LOCATION:Europe/Madrid
BEGIN:STANDARD
DTSTART;VALUE=DATE-TIME:20251026T020000
TZNAME:CET
TZOFFSETFROM:+0200
TZOFFSETTO:+0100
END:STANDARD
END:VTIMEZONE
END:VCALENDAR
