BEGIN:VCALENDAR
VERSION:2.0
PRODID:-//Plone.org//NONSGML plone.app.event//EN
X-WR-TIMEZONE:Europe/Madrid
BEGIN:VEVENT
SUMMARY:Cine: "Contratiempo" de Oriol Paulo (España\, 2016)
DTSTART;TZID=Europe/Madrid;VALUE=DATE-TIME:20250615T180000
DTEND;TZID=Europe/Madrid;VALUE=DATE-TIME:20250615T203000
DTSTAMP;VALUE=DATE-TIME:20260421T160039Z
UID:3ef213f59f1f49e8a09db5af1f0a1942@www.molletvalles.cat
CATEGORIES:Cine
CREATED;VALUE=DATE-TIME:20250129T105639Z
LAST-MODIFIED;VALUE=DATE-TIME:20250529T081409Z
URL:https://www.molletvalles.cat/es/actualidad/agenda/cine-contratiempo-de
 -oriol-paulo-espana-2016
END:VEVENT
BEGIN:VTIMEZONE
TZID:Europe/Madrid
X-LIC-LOCATION:Europe/Madrid
BEGIN:DAYLIGHT
DTSTART;VALUE=DATE-TIME:20250330T030000
TZNAME:CEST
TZOFFSETFROM:+0100
TZOFFSETTO:+0200
END:DAYLIGHT
END:VTIMEZONE
END:VCALENDAR
