BEGIN:VCALENDAR
VERSION:2.0
PRODID:-//Plone.org//NONSGML plone.app.event//EN
X-WR-TIMEZONE:Europe/Madrid
BEGIN:VEVENT
SUMMARY:Cinefórum: "El maestro que prometió el mar" de Patricia Font (Es
 paña 2023)
DTSTART;TZID=Europe/Madrid;VALUE=DATE-TIME:20250126T180000
DTEND;TZID=Europe/Madrid;VALUE=DATE-TIME:20250126T190000
DTSTAMP;VALUE=DATE-TIME:20260425T121748Z
UID:f4d57b4b5fda44b1b9ea1eb60f854100@www.molletvalles.cat
CATEGORIES:Cine
CREATED;VALUE=DATE-TIME:20241002T125120Z
DESCRIPTION:FIESTA MAYOR DE INVIERNO
LAST-MODIFIED;VALUE=DATE-TIME:20250120T141542Z
URL:https://www.molletvalles.cat/es/actualidad/agenda/cineforum-el-maestro
 -que-prometio-el-mar-de-patricia-font-espana-2023
END:VEVENT
BEGIN:VTIMEZONE
TZID:Europe/Madrid
X-LIC-LOCATION:Europe/Madrid
BEGIN:STANDARD
DTSTART;VALUE=DATE-TIME:20241027T020000
TZNAME:CET
TZOFFSETFROM:+0200
TZOFFSETTO:+0100
END:STANDARD
END:VTIMEZONE
END:VCALENDAR
