BEGIN:VCALENDAR
VERSION:2.0
PRODID:-//Plone.org//NONSGML plone.app.event//EN
X-WR-TIMEZONE:Europe/Madrid
BEGIN:VEVENT
SUMMARY:Club de lectura en francés: "Kifer kiffer demain" de Faïza Guèn
 e
DTSTART;TZID=Europe/Madrid;VALUE=DATE-TIME:20241108T170000
DTEND;TZID=Europe/Madrid;VALUE=DATE-TIME:20241108T180000
DTSTAMP;VALUE=DATE-TIME:20260421T160418Z
UID:2259a43f8cc14e05a5eb1926f485a6e7@www.molletvalles.cat
CATEGORIES:Actos diversos
CREATED;VALUE=DATE-TIME:20241104T081747Z
LAST-MODIFIED;VALUE=DATE-TIME:20241104T083231Z
URL:https://www.molletvalles.cat/es/actualidad/agenda/club-de-lectura-en-f
 rances-kifer-kiffer-demain-de-faiza-guene
END:VEVENT
BEGIN:VTIMEZONE
TZID:Europe/Madrid
X-LIC-LOCATION:Europe/Madrid
BEGIN:STANDARD
DTSTART;VALUE=DATE-TIME:20241027T020000
TZNAME:CET
TZOFFSETFROM:+0200
TZOFFSETTO:+0100
END:STANDARD
END:VTIMEZONE
END:VCALENDAR
