BEGIN:VCALENDAR
VERSION:2.0
PRODID:-//Plone.org//NONSGML plone.app.event//EN
X-WR-TIMEZONE:Europe/Madrid
BEGIN:VEVENT
SUMMARY:Club de Lectura en Inglés: The Catcher in the rye de J. D. Saling
 er
DTSTART;TZID=Europe/Madrid;VALUE=DATE-TIME:20240920T170000
DTEND;TZID=Europe/Madrid;VALUE=DATE-TIME:20240920T180000
DTSTAMP;VALUE=DATE-TIME:20260419T161702Z
UID:2cf395f991af40b4a8cc1b6f460ed61a@www.molletvalles.cat
CATEGORIES:Actos diversos
CREATED;VALUE=DATE-TIME:20240917T100315Z
LAST-MODIFIED;VALUE=DATE-TIME:20240917T100402Z
URL:https://www.molletvalles.cat/es/actualidad/agenda/club-de-lectura-en-i
 ngles-the-catcher-in-the-rye-de-j-d-salinger
END:VEVENT
BEGIN:VTIMEZONE
TZID:Europe/Madrid
X-LIC-LOCATION:Europe/Madrid
BEGIN:DAYLIGHT
DTSTART;VALUE=DATE-TIME:20240331T030000
TZNAME:CEST
TZOFFSETFROM:+0100
TZOFFSETTO:+0200
END:DAYLIGHT
END:VTIMEZONE
END:VCALENDAR
