BEGIN:VCALENDAR
VERSION:2.0
PRODID:-//Plone.org//NONSGML plone.app.event//EN
X-WR-TIMEZONE:Europe/Madrid
BEGIN:VEVENT
SUMMARY:Club de lectura Entre líneas: "Son cosas que pasan" de Pauline Dr
 eyfus
DTSTART;TZID=Europe/Madrid;VALUE=DATE-TIME:20230412T190000
DTEND;TZID=Europe/Madrid;VALUE=DATE-TIME:20230412T200000
DTSTAMP;VALUE=DATE-TIME:20260423T121335Z
UID:cc67528aace247f19a1091a9b79992e6@www.molletvalles.cat
CATEGORIES:Charlas
CREATED;VALUE=DATE-TIME:20230403T073347Z
LAST-MODIFIED;VALUE=DATE-TIME:20230403T074637Z
URL:https://www.molletvalles.cat/es/actualidad/agenda/club-de-lectura-entr
 e-lineas-son-cosas-que-pasan-de-pauline-dreyfus
END:VEVENT
BEGIN:VTIMEZONE
TZID:Europe/Madrid
X-LIC-LOCATION:Europe/Madrid
BEGIN:DAYLIGHT
DTSTART;VALUE=DATE-TIME:20230326T030000
TZNAME:CEST
TZOFFSETFROM:+0100
TZOFFSETTO:+0200
END:DAYLIGHT
END:VTIMEZONE
END:VCALENDAR
