BEGIN:VCALENDAR
VERSION:2.0
PRODID:-//Plone.org//NONSGML plone.app.event//EN
X-WR-TIMEZONE:Europe/Madrid
BEGIN:VEVENT
SUMMARY:Club de lectura Entre líneas: "Tiempo de familia" de Tània Juste
DTSTART;TZID=Europe/Madrid;VALUE=DATE-TIME:20240207T190000
DTEND;TZID=Europe/Madrid;VALUE=DATE-TIME:20240207T200000
DTSTAMP;VALUE=DATE-TIME:20260419T162330Z
UID:d7c7989ab1fd448dbea94def7ff3dd7f@www.molletvalles.cat
CATEGORIES:Charlas
CREATED;VALUE=DATE-TIME:20240206T101832Z
LAST-MODIFIED;VALUE=DATE-TIME:20240206T115315Z
URL:https://www.molletvalles.cat/es/actualidad/agenda/club-de-lectura-entr
 e-lineas-tiempo-de-familia-de-tania-juste
END:VEVENT
BEGIN:VTIMEZONE
TZID:Europe/Madrid
X-LIC-LOCATION:Europe/Madrid
BEGIN:STANDARD
DTSTART;VALUE=DATE-TIME:20231029T020000
TZNAME:CET
TZOFFSETFROM:+0200
TZOFFSETTO:+0100
END:STANDARD
END:VTIMEZONE
END:VCALENDAR
