BEGIN:VCALENDAR
VERSION:2.0
PRODID:-//Plone.org//NONSGML plone.app.event//EN
X-WR-TIMEZONE:Europe/Madrid
BEGIN:VEVENT
SUMMARY:Club de lectura Mirada Lila: "La extraña desaparición de Esme Le
 nnox" de Maggie O'Farrell
DTSTART;TZID=Europe/Madrid;VALUE=DATE-TIME:20241127T190000
DTEND;TZID=Europe/Madrid;VALUE=DATE-TIME:20241127T200000
DTSTAMP;VALUE=DATE-TIME:20260419T220232Z
UID:e3a49904d01749a4ae039010535a8f61@www.molletvalles.cat
CATEGORIES:Actos diversos
CREATED;VALUE=DATE-TIME:20241106T110443Z
LAST-MODIFIED;VALUE=DATE-TIME:20241108T082743Z
URL:https://www.molletvalles.cat/es/actualidad/agenda/club-de-lectura-mira
 da-lila-la-extrana-desaparicion-de-esme-lennox-de-maggie-ofarrell
END:VEVENT
BEGIN:VTIMEZONE
TZID:Europe/Madrid
X-LIC-LOCATION:Europe/Madrid
BEGIN:STANDARD
DTSTART;VALUE=DATE-TIME:20241027T020000
TZNAME:CET
TZOFFSETFROM:+0200
TZOFFSETTO:+0100
END:STANDARD
END:VTIMEZONE
END:VCALENDAR
