BEGIN:VCALENDAR
VERSION:2.0
PRODID:-//Plone.org//NONSGML plone.app.event//EN
X-WR-TIMEZONE:Europe/Madrid
BEGIN:VEVENT
SUMMARY:Club de lectura Mirada Lila: "Lo raro es vivir" de Carmen Martín 
 Gaite
DTSTART;TZID=Europe/Madrid;VALUE=DATE-TIME:20240619T190000
DTEND;TZID=Europe/Madrid;VALUE=DATE-TIME:20240619T200000
DTSTAMP;VALUE=DATE-TIME:20260425T155150Z
UID:692e0b1106574717b66c985b798032e7@www.molletvalles.cat
CATEGORIES:Actos diversos
CREATED;VALUE=DATE-TIME:20240606T080053Z
LAST-MODIFIED;VALUE=DATE-TIME:20240607T054941Z
URL:https://www.molletvalles.cat/es/actualidad/agenda/club-de-lectura-mira
 da-lila-lo-raro-es-vivir-de-carmen-martin-gaite
END:VEVENT
BEGIN:VTIMEZONE
TZID:Europe/Madrid
X-LIC-LOCATION:Europe/Madrid
BEGIN:DAYLIGHT
DTSTART;VALUE=DATE-TIME:20240331T030000
TZNAME:CEST
TZOFFSETFROM:+0100
TZOFFSETTO:+0200
END:DAYLIGHT
END:VTIMEZONE
END:VCALENDAR
