BEGIN:VCALENDAR
VERSION:2.0
PRODID:-//Plone.org//NONSGML plone.app.event//EN
X-WR-TIMEZONE:Europe/Madrid
BEGIN:VEVENT
SUMMARY:Club de lectura Mirada Lila: "Pedra de tartera" de Maria Barbal
DTSTART;TZID=Europe/Madrid;VALUE=DATE-TIME:20230315T190000
DTEND;TZID=Europe/Madrid;VALUE=DATE-TIME:20230315T200000
DTSTAMP;VALUE=DATE-TIME:20260421T160350Z
UID:694be089713845c0be0004bde681ee77@www.molletvalles.cat
CATEGORIES:Juveniles
CREATED;VALUE=DATE-TIME:20230208T081817Z
LAST-MODIFIED;VALUE=DATE-TIME:20230309T090933Z
LOCATION:Biblioteca de Can Mulá-Jordi Solé Tura
URL:https://www.molletvalles.cat/es/actualidad/agenda/club-de-lectura-mira
 da-lila-pedra-de-tartera-de-maria-barbal
END:VEVENT
BEGIN:VTIMEZONE
TZID:Europe/Madrid
X-LIC-LOCATION:Europe/Madrid
BEGIN:STANDARD
DTSTART;VALUE=DATE-TIME:20221030T020000
TZNAME:CET
TZOFFSETFROM:+0200
TZOFFSETTO:+0100
END:STANDARD
END:VTIMEZONE
END:VCALENDAR
