BEGIN:VCALENDAR
VERSION:2.0
PRODID:-//Plone.org//NONSGML plone.app.event//EN
X-WR-TIMEZONE:Europe/Madrid
BEGIN:VEVENT
SUMMARY:Concierto de despedida de José Maria Aparicio
DTSTART;TZID=Europe/Madrid;VALUE=DATE-TIME:20240706T200000
DTEND;TZID=Europe/Madrid;VALUE=DATE-TIME:20240706T210000
DTSTAMP;VALUE=DATE-TIME:20260420T000135Z
UID:3db9c8abdaaf423b9cf4ebd2c0c6ef59@www.molletvalles.cat
CATEGORIES:Música
CREATED;VALUE=DATE-TIME:20240619T121629Z
DESCRIPTION:REFRESCO'ARTE 2024
LAST-MODIFIED;VALUE=DATE-TIME:20240703T070423Z
LOCATION:Parque de Les Pruneres
URL:https://www.molletvalles.cat/es/actualidad/agenda/concierto-con-alumno
 s-y-exalumnos-de-la-jazz-band-de-la-escuela-municipal-de-musica-y-danza
END:VEVENT
BEGIN:VTIMEZONE
TZID:Europe/Madrid
X-LIC-LOCATION:Europe/Madrid
BEGIN:DAYLIGHT
DTSTART;VALUE=DATE-TIME:20240331T030000
TZNAME:CEST
TZOFFSETFROM:+0100
TZOFFSETTO:+0200
END:DAYLIGHT
END:VTIMEZONE
END:VCALENDAR
