BEGIN:VCALENDAR
VERSION:2.0
PRODID:-//Plone.org//NONSGML plone.app.event//EN
X-WR-TIMEZONE:Europe/Madrid
BEGIN:VEVENT
SUMMARY:Concierto de BUHOS + TAPEO SOUND SYSTEM + DJ ÀNGEL NOHALES
DTSTART;TZID=Europe/Madrid;VALUE=DATE-TIME:20230820T003000
DTEND;TZID=Europe/Madrid;VALUE=DATE-TIME:20230820T013000
DTSTAMP;VALUE=DATE-TIME:20260421T160421Z
UID:345b64c7cb854486b65d5f92a6cd3a50@www.molletvalles.cat
CATEGORIES:Música
CREATED;VALUE=DATE-TIME:20230727T093831Z
DESCRIPTION:FIESTA MAYOR 2023
LAST-MODIFIED;VALUE=DATE-TIME:20230802T105106Z
LOCATION:Parque de Can Mulà
URL:https://www.molletvalles.cat/es/actualidad/agenda/concierto-de-buhos-t
 apeo-sound-system-dj-angel-nohales
END:VEVENT
BEGIN:VTIMEZONE
TZID:Europe/Madrid
X-LIC-LOCATION:Europe/Madrid
BEGIN:DAYLIGHT
DTSTART;VALUE=DATE-TIME:20230326T030000
TZNAME:CEST
TZOFFSETFROM:+0100
TZOFFSETTO:+0200
END:DAYLIGHT
END:VTIMEZONE
END:VCALENDAR
