BEGIN:VCALENDAR
VERSION:2.0
PRODID:-//Plone.org//NONSGML plone.app.event//EN
X-WR-TIMEZONE:Europe/Madrid
BEGIN:VEVENT
SUMMARY:Concierto de Fin de Curso de la Asociación Musical Pau Casals
DTSTART;TZID=Europe/Madrid;VALUE=DATE-TIME:20230701T200000
DTEND;TZID=Europe/Madrid;VALUE=DATE-TIME:20230701T210000
DTSTAMP;VALUE=DATE-TIME:20260425T140814Z
UID:1c76dba750a347b99ea34366717d9c47@www.molletvalles.cat
CREATED;VALUE=DATE-TIME:20230614T115435Z
DESCRIPTION:REFRESCO'ARTE 2023
LAST-MODIFIED;VALUE=DATE-TIME:20230629T094253Z
LOCATION:Parque de Les Pruneres
URL:https://www.molletvalles.cat/es/actualidad/agenda/concierto-de-fin-de-
 curso-de-la-asociacion-musical-pau-casals
END:VEVENT
BEGIN:VTIMEZONE
TZID:Europe/Madrid
X-LIC-LOCATION:Europe/Madrid
BEGIN:DAYLIGHT
DTSTART;VALUE=DATE-TIME:20230326T030000
TZNAME:CEST
TZOFFSETFROM:+0100
TZOFFSETTO:+0200
END:DAYLIGHT
END:VTIMEZONE
END:VCALENDAR
