BEGIN:VCALENDAR
VERSION:2.0
PRODID:-//Plone.org//NONSGML plone.app.event//EN
X-WR-TIMEZONE:Europe/Madrid
BEGIN:VEVENT
SUMMARY:Concierto de Santa Cecília\, a cargo de la Asociación Musical Pa
 u Casals
DTSTART;TZID=Europe/Madrid;VALUE=DATE-TIME:20251122T183000
DTEND;TZID=Europe/Madrid;VALUE=DATE-TIME:20251122T193000
DTSTAMP;VALUE=DATE-TIME:20260425T155150Z
UID:192a2419fd3142ecb5fc7108d3d28764@www.molletvalles.cat
CATEGORIES:Música
CREATED;VALUE=DATE-TIME:20251008T074719Z
LAST-MODIFIED;VALUE=DATE-TIME:20251104T064159Z
URL:https://www.molletvalles.cat/es/actualidad/agenda/concierto-de-santa-c
 ecilia-a-cargo-de-la-asociacion-musical-pau-casals-2
END:VEVENT
BEGIN:VTIMEZONE
TZID:Europe/Madrid
X-LIC-LOCATION:Europe/Madrid
BEGIN:STANDARD
DTSTART;VALUE=DATE-TIME:20251026T020000
TZNAME:CET
TZOFFSETFROM:+0200
TZOFFSETTO:+0100
END:STANDARD
END:VTIMEZONE
END:VCALENDAR
