BEGIN:VCALENDAR
VERSION:2.0
PRODID:-//Plone.org//NONSGML plone.app.event//EN
X-WR-TIMEZONE:Europe/Madrid
BEGIN:VEVENT
SUMMARY:Concierto de Santa Cecília\, a cargo del Coro Infantil y el Grupo
  de Danza de la Escuela Municipal de Música y Danza
DTSTART;TZID=Europe/Madrid;VALUE=DATE-TIME:20241115T183000
DTEND;TZID=Europe/Madrid;VALUE=DATE-TIME:20241115T193000
DTSTAMP;VALUE=DATE-TIME:20260419T162522Z
UID:cc801d8f64704f19a58734f1af1b73b9@www.molletvalles.cat
CATEGORIES:Música
CREATED;VALUE=DATE-TIME:20241105T084829Z
LAST-MODIFIED;VALUE=DATE-TIME:20241107T092833Z
URL:https://www.molletvalles.cat/es/actualidad/agenda/concierto-de-santa-c
 ecilia-a-cargo-del-coro-infantil-y-el-grupo-de-danza-de-la-escuela-municip
 al-de-musica-y-danza
END:VEVENT
BEGIN:VTIMEZONE
TZID:Europe/Madrid
X-LIC-LOCATION:Europe/Madrid
BEGIN:STANDARD
DTSTART;VALUE=DATE-TIME:20241027T020000
TZNAME:CET
TZOFFSETFROM:+0200
TZOFFSETTO:+0100
END:STANDARD
END:VTIMEZONE
END:VCALENDAR
