BEGIN:VCALENDAR
VERSION:2.0
PRODID:-//Plone.org//NONSGML plone.app.event//EN
X-WR-TIMEZONE:Europe/Madrid
BEGIN:VEVENT
SUMMARY:Concierto Directo al Cívico: Heavy metal -directo al infierno-
DTSTART;TZID=Europe/Madrid;VALUE=DATE-TIME:20231103T213000
DTEND;TZID=Europe/Madrid;VALUE=DATE-TIME:20231103T223000
DTSTAMP;VALUE=DATE-TIME:20260421T160457Z
UID:4a95952a43164a1ba10563f725a1ff1c@www.molletvalles.cat
CATEGORIES:Música
CREATED;VALUE=DATE-TIME:20231020T113354Z
LAST-MODIFIED;VALUE=DATE-TIME:20231030T123408Z
URL:https://www.molletvalles.cat/es/actualidad/agenda/concierto-directo-al
 -civico-heavy-metal-directo-al-infierno
END:VEVENT
BEGIN:VTIMEZONE
TZID:Europe/Madrid
X-LIC-LOCATION:Europe/Madrid
BEGIN:STANDARD
DTSTART;VALUE=DATE-TIME:20231029T020000
TZNAME:CET
TZOFFSETFROM:+0200
TZOFFSETTO:+0100
END:STANDARD
END:VTIMEZONE
END:VCALENDAR
