BEGIN:VCALENDAR
VERSION:2.0
PRODID:-//Plone.org//NONSGML plone.app.event//EN
X-WR-TIMEZONE:Europe/Madrid
BEGIN:VEVENT
SUMMARY:Festival INCERT: Concierto "Paisaje sonoro. Un encuentro entre Cat
 aluña y Palestina"
DTSTART;TZID=Europe/Madrid;VALUE=DATE-TIME:20250301T183000
DTEND;TZID=Europe/Madrid;VALUE=DATE-TIME:20250301T193000
DTSTAMP;VALUE=DATE-TIME:20260419T223118Z
UID:b8e5d74322e94f97bc314629d421d3a7@www.molletvalles.cat
CATEGORIES:Música
CREATED;VALUE=DATE-TIME:20250220T103944Z
LAST-MODIFIED;VALUE=DATE-TIME:20250226T093054Z
URL:https://www.molletvalles.cat/es/actualidad/agenda/concierto-paisaje-so
 noro-un-encuentro-entre-cataluna-y-palestina
END:VEVENT
BEGIN:VTIMEZONE
TZID:Europe/Madrid
X-LIC-LOCATION:Europe/Madrid
BEGIN:STANDARD
DTSTART;VALUE=DATE-TIME:20241027T020000
TZNAME:CET
TZOFFSETFROM:+0200
TZOFFSETTO:+0100
END:STANDARD
END:VTIMEZONE
END:VCALENDAR
